BEGIN:VCALENDAR
VERSION:2.0
PRODID:-//WelpIcalBundle//Calendar App//NL
CALSCALE:GREGORIAN
METHOD:PUBLISH
BEGIN:VTIMEZONE
TZID:Europe/Amsterdam
BEGIN:STANDARD
DTSTART:19691231T230000
TZOFFSETTO:+0100
TZOFFSETFROM:+0100
END:STANDARD
END:VTIMEZONE
BEGIN:VEVENT
UID:
DTSTART:20250603T093000
DTEND:20250603T163000
STATUS:
SUMMARY:2-daagse cursus: Motiveren tot ACTiveren voor POH-GGZ!
DESCRIPTION:<p> .</p>
DTSTAMP:20260424T174221Z
END:VEVENT
END:VCALENDAR
