BEGIN:VCALENDAR
VERSION:2.0
PRODID:-//WelpIcalBundle//Calendar App//NL
CALSCALE:GREGORIAN
METHOD:PUBLISH
BEGIN:VTIMEZONE
TZID:Europe/Amsterdam
BEGIN:STANDARD
DTSTART:19691231T230000
TZOFFSETTO:+0100
TZOFFSETFROM:+0100
END:STANDARD
END:VTIMEZONE
BEGIN:VEVENT
UID:
DTSTART:20260209T090000
DTEND:20260209T164500
STATUS:
SUMMARY:2-daagse nascholing 'Wat bezielt jou?' - over de persoon van d
 e therapeut en de therapeutische relatie.
DESCRIPTION:<p> .</p>
DTSTAMP:20260420T092527Z
END:VEVENT
END:VCALENDAR
